Package: alternativeSplicingEvents.hg19 Version: 1.1.0 Command: /home/biocbuild/bbs-3.22-bioc/R/bin/R CMD check --install=check:alternativeSplicingEvents.hg19.install-out.txt --library=/home/biocbuild/bbs-3.22-bioc/R/site-library --timings alternativeSplicingEvents.hg19_1.1.0.tar.gz StartedAt: 2025-11-05 05:58:44 -0500 (Wed, 05 Nov 2025) EndedAt: 2025-11-05 05:58:45 -0500 (Wed, 05 Nov 2025) EllapsedTime: 1.0 seconds RetCode: 0 Status: OK CheckDir: alternativeSplicingEvents.hg19.Rcheck Warnings: 0