Package: TENET.AnnotationHub Version: 1.1.0 Command: /home/biocbuild/bbs-3.22-bioc/R/bin/R CMD check --install=check:TENET.AnnotationHub.install-out.txt --library=/home/biocbuild/bbs-3.22-bioc/R/site-library --timings TENET.AnnotationHub_1.1.0.tar.gz StartedAt: 2025-11-05 06:00:45 -0500 (Wed, 05 Nov 2025) EndedAt: 2025-11-05 06:02:24 -0500 (Wed, 05 Nov 2025) EllapsedTime: 99.0 seconds RetCode: 0 Status: OK CheckDir: TENET.AnnotationHub.Rcheck Warnings: 0