Package: PANTHER.db Version: 1.0.12 Command: /home/biocbuild/bbs-3.22-bioc/R/bin/R CMD check --install=check:PANTHER.db.install-out.txt --library=/home/biocbuild/bbs-3.22-bioc/R/site-library --timings PANTHER.db_1.0.12.tar.gz StartedAt: 2025-11-05 06:00:20 -0500 (Wed, 05 Nov 2025) EndedAt: 2025-11-05 06:02:51 -0500 (Wed, 05 Nov 2025) EllapsedTime: 151.2 seconds RetCode: 0 Status: OK CheckDir: PANTHER.db.Rcheck Warnings: 0