Package: MPO.db Version: 0.99.8 Command: /home/biocbuild/bbs-3.22-bioc/R/bin/R CMD build --keep-empty-dirs --no-resave-data MPO.db StartedAt: 2025-11-05 05:57:08 -0500 (Wed, 05 Nov 2025) EndedAt: 2025-11-05 05:57:50 -0500 (Wed, 05 Nov 2025) EllapsedTime: 41.6 seconds RetCode: 0 Status: OK PackageFile: MPO.db_0.99.8.tar.gz PackageFileSize: 29.9 KiB