Package: GeneSummary Version: 0.99.6 Command: /home/biocbuild/bbs-3.21-bioc/R/bin/R CMD INSTALL GeneSummary StartedAt: 2025-10-15 06:00:07 -0400 (Wed, 15 Oct 2025) EndedAt: 2025-10-15 06:00:08 -0400 (Wed, 15 Oct 2025) EllapsedTime: 1.9 seconds RetCode: 0 Status: OK