Package: EuPathDB Version: 1.0.1 Command: /home/biocbuild/bbs-3.22-bioc/R/bin/R CMD INSTALL EuPathDB StartedAt: 2025-11-05 05:55:23 -0500 (Wed, 05 Nov 2025) EndedAt: 2025-11-05 05:55:59 -0500 (Wed, 05 Nov 2025) EllapsedTime: 36.3 seconds RetCode: 0 Status: OK