Package: EuPathDB Version: 1.0.1 Command: /home/biocbuild/bbs-3.22-bioc/R/bin/R CMD build --keep-empty-dirs --no-resave-data EuPathDB StartedAt: 2025-11-05 05:56:29 -0500 (Wed, 05 Nov 2025) EndedAt: 2025-11-05 05:57:22 -0500 (Wed, 05 Nov 2025) EllapsedTime: 52.8 seconds RetCode: 1 Status: ERROR PackageFile: None PackageFileSize: NA