Package: EpiTxDb.Sc.sacCer3 Version: 0.99.5 Command: /home/biocbuild/bbs-3.22-bioc/R/bin/R CMD INSTALL EpiTxDb.Sc.sacCer3 StartedAt: 2025-11-05 05:55:26 -0500 (Wed, 05 Nov 2025) EndedAt: 2025-11-05 05:56:05 -0500 (Wed, 05 Nov 2025) EllapsedTime: 38.9 seconds RetCode: 0 Status: OK