Package: EpiTxDb.Mm.mm10 Version: 0.99.6 Command: /home/biocbuild/bbs-3.21-bioc/R/bin/R CMD check --install=check:EpiTxDb.Mm.mm10.install-out.txt --library=/home/biocbuild/bbs-3.21-bioc/R/site-library --timings EpiTxDb.Mm.mm10_0.99.6.tar.gz StartedAt: 2025-10-15 06:03:35 -0400 (Wed, 15 Oct 2025) EndedAt: 2025-10-15 06:09:35 -0400 (Wed, 15 Oct 2025) EllapsedTime: 360.4 seconds RetCode: 0 Status: OK CheckDir: EpiTxDb.Mm.mm10.Rcheck Warnings: 0