Package: EpiTxDb.Hs.hg38 Version: 0.99.7 Command: /home/biocbuild/bbs-3.22-bioc/R/bin/R CMD INSTALL EpiTxDb.Hs.hg38 StartedAt: 2025-10-29 05:55:31 -0400 (Wed, 29 Oct 2025) EndedAt: 2025-10-29 05:56:09 -0400 (Wed, 29 Oct 2025) EllapsedTime: 38.7 seconds RetCode: 0 Status: OK