Package: EpiTxDb.Hs.hg38 Version: 0.99.7 Command: /home/biocbuild/bbs-3.21-bioc/R/bin/R CMD INSTALL EpiTxDb.Hs.hg38 StartedAt: 2025-10-15 06:00:25 -0400 (Wed, 15 Oct 2025) EndedAt: 2025-10-15 06:01:04 -0400 (Wed, 15 Oct 2025) EllapsedTime: 38.9 seconds RetCode: 0 Status: OK