Package: EpiTxDb.Hs.hg38 Version: 0.99.7 Command: /home/biocbuild/bbs-3.21-bioc/R/bin/R CMD build --keep-empty-dirs --no-resave-data EpiTxDb.Hs.hg38 StartedAt: 2025-10-15 06:01:13 -0400 (Wed, 15 Oct 2025) EndedAt: 2025-10-15 06:02:24 -0400 (Wed, 15 Oct 2025) EllapsedTime: 71.4 seconds RetCode: 0 Status: OK PackageFile: EpiTxDb.Hs.hg38_0.99.7.tar.gz PackageFileSize: 316.9 KiB