Package: EPICv2manifest Version: 0.99.7 Command: /home/biocbuild/bbs-3.22-bioc/R/bin/R CMD check --install=check:EPICv2manifest.install-out.txt --library=/home/biocbuild/bbs-3.22-bioc/R/site-library --timings EPICv2manifest_0.99.7.tar.gz StartedAt: 2025-11-05 05:58:44 -0500 (Wed, 05 Nov 2025) EndedAt: 2025-11-05 05:59:32 -0500 (Wed, 05 Nov 2025) EllapsedTime: 48.2 seconds RetCode: 0 Status: OK CheckDir: EPICv2manifest.Rcheck Warnings: 0