Package: EPICv2manifest Version: 0.99.7 Command: /home/biocbuild/bbs-3.21-bioc/R/bin/R CMD INSTALL EPICv2manifest StartedAt: 2025-10-01 06:00:08 -0400 (Wed, 01 Oct 2025) EndedAt: 2025-10-01 06:00:17 -0400 (Wed, 01 Oct 2025) EllapsedTime: 9.1 seconds RetCode: 0 Status: OK