Package: ENCODExplorerData Version: 0.99.5 Command: /home/biocbuild/bbs-3.22-bioc/R/bin/R CMD check --install=check:ENCODExplorerData.install-out.txt --library=/home/biocbuild/bbs-3.22-bioc/R/site-library --timings ENCODExplorerData_0.99.5.tar.gz StartedAt: 2025-11-19 06:04:19 -0500 (Wed, 19 Nov 2025) EndedAt: 2025-11-19 06:06:23 -0500 (Wed, 19 Nov 2025) EllapsedTime: 124.2 seconds RetCode: 0 Status: OK CheckDir: ENCODExplorerData.Rcheck Warnings: 0