Package: ENCODExplorerData Version: 0.99.5 Command: /home/biocbuild/bbs-3.21-bioc/R/bin/R CMD check --install=check:ENCODExplorerData.install-out.txt --library=/home/biocbuild/bbs-3.21-bioc/R/site-library --timings ENCODExplorerData_0.99.5.tar.gz StartedAt: 2025-10-01 06:03:36 -0400 (Wed, 01 Oct 2025) EndedAt: 2025-10-01 06:05:36 -0400 (Wed, 01 Oct 2025) EllapsedTime: 119.8 seconds RetCode: 0 Status: OK CheckDir: ENCODExplorerData.Rcheck Warnings: 0