Package: BioMartGOGeneSets Version: 0.99.11 Command: /home/biocbuild/bbs-3.22-bioc/R/bin/R CMD check --install=check:BioMartGOGeneSets.install-out.txt --library=/home/biocbuild/bbs-3.22-bioc/R/site-library --timings BioMartGOGeneSets_0.99.11.tar.gz StartedAt: 2025-11-05 05:58:44 -0500 (Wed, 05 Nov 2025) EndedAt: 2025-11-05 06:00:33 -0500 (Wed, 05 Nov 2025) EllapsedTime: 109.2 seconds RetCode: 0 Status: OK CheckDir: BioMartGOGeneSets.Rcheck Warnings: 0