Package: AlphaMissense.v2023.hg38 Version: 3.18.2 Command: /home/biocbuild/bbs-3.22-bioc/R/bin/R CMD INSTALL AlphaMissense.v2023.hg38 StartedAt: 2025-10-29 05:55:17 -0400 (Wed, 29 Oct 2025) EndedAt: 2025-10-29 05:55:34 -0400 (Wed, 29 Oct 2025) EllapsedTime: 17.1 seconds RetCode: 0 Status: OK