Package: AlphaMissense.v2023.hg38 Version: 3.18.2 Command: /home/biocbuild/bbs-3.22-bioc/R/bin/R CMD build --keep-empty-dirs --no-resave-data AlphaMissense.v2023.hg38 StartedAt: 2025-10-29 05:56:15 -0400 (Wed, 29 Oct 2025) EndedAt: 2025-10-29 05:57:01 -0400 (Wed, 29 Oct 2025) EllapsedTime: 45.6 seconds RetCode: 0 Status: OK PackageFile: AlphaMissense.v2023.hg38_3.18.2.tar.gz PackageFileSize: 299.9 KiB