Package: AHWikipathwaysDbs Version: 0.99.4 Command: /home/biocbuild/bbs-3.21-bioc/R/bin/R CMD build --keep-empty-dirs --no-resave-data AHWikipathwaysDbs StartedAt: 2025-10-15 06:01:11 -0400 (Wed, 15 Oct 2025) EndedAt: 2025-10-15 06:01:35 -0400 (Wed, 15 Oct 2025) EllapsedTime: 24.4 seconds RetCode: 0 Status: OK PackageFile: AHWikipathwaysDbs_0.99.4.tar.gz PackageFileSize: 295 KiB