Package: AHMeSHDbs Version: 1.8.0 Command: /home/biocbuild/bbs-3.21-bioc/R/bin/R CMD build --keep-empty-dirs --no-resave-data AHMeSHDbs StartedAt: 2025-10-15 06:01:11 -0400 (Wed, 15 Oct 2025) EndedAt: 2025-10-15 06:01:26 -0400 (Wed, 15 Oct 2025) EllapsedTime: 15.1 seconds RetCode: 0 Status: OK PackageFile: AHMeSHDbs_1.8.0.tar.gz PackageFileSize: 321.9 KiB