Package: AHEnsDbs Version: 1.7.0 Command: /home/biocbuild/bbs-3.22-bioc/R/bin/R CMD INSTALL AHEnsDbs StartedAt: 2025-11-05 05:55:23 -0500 (Wed, 05 Nov 2025) EndedAt: 2025-11-05 05:55:49 -0500 (Wed, 05 Nov 2025) EllapsedTime: 25.7 seconds RetCode: 0 Status: OK