Package: AHEnsDbs Version: 1.7.0 Command: /home/biocbuild/bbs-3.21-bioc/R/bin/R CMD build --keep-empty-dirs --no-resave-data AHEnsDbs StartedAt: 2025-10-15 06:01:11 -0400 (Wed, 15 Oct 2025) EndedAt: 2025-10-15 06:01:58 -0400 (Wed, 15 Oct 2025) EllapsedTime: 47.6 seconds RetCode: 0 Status: OK PackageFile: AHEnsDbs_1.7.0.tar.gz PackageFileSize: 502.2 KiB