Package: AHCytoBands Version: 0.99.1 Command: /home/biocbuild/bbs-3.22-bioc/R/bin/R CMD INSTALL AHCytoBands StartedAt: 2025-11-05 05:55:07 -0500 (Wed, 05 Nov 2025) EndedAt: 2025-11-05 05:55:11 -0500 (Wed, 05 Nov 2025) EllapsedTime: 3.0 seconds RetCode: 0 Status: OK