Package: AHCytoBands Version: 0.99.1 Command: /home/biocbuild/bbs-3.21-bioc/R/bin/R CMD INSTALL AHCytoBands StartedAt: 2025-10-15 06:00:07 -0400 (Wed, 15 Oct 2025) EndedAt: 2025-10-15 06:00:10 -0400 (Wed, 15 Oct 2025) EllapsedTime: 2.9 seconds RetCode: 0 Status: OK