Package: xcms Version: 4.9.0 Command: /home/rapidbuild/bbs-3.22-bioc-rapid/R/bin/R CMD build --keep-empty-dirs --no-resave-data xcms StartedAt: 2025-10-30 13:10:08 -0400 (Thu, 30 Oct 2025) EndedAt: 2025-10-30 13:13:47 -0400 (Thu, 30 Oct 2025) EllapsedTime: 219.1 seconds RetCode: 0 Status: OK PackageFile: xcms_4.9.0.tar.gz PackageFileSize: 9.137 MiB