Package: sparseMatrixStats Version: 1.23.0 Command: /home/rapidbuild/bbs-3.22-bioc-rapid/R/bin/R CMD build --keep-empty-dirs --no-resave-data sparseMatrixStats StartedAt: 2025-10-30 13:06:52 -0400 (Thu, 30 Oct 2025) EndedAt: 2025-10-30 13:07:17 -0400 (Thu, 30 Oct 2025) EllapsedTime: 25.3 seconds RetCode: 0 Status: OK PackageFile: sparseMatrixStats_1.23.0.tar.gz PackageFileSize: 687.7 KiB