Package: scran Version: 1.39.0 Command: /home/rapidbuild/bbs-3.22-bioc-rapid/R/bin/R CMD INSTALL scran StartedAt: 2025-10-30 12:18:36 -0400 (Thu, 30 Oct 2025) EndedAt: 2025-10-30 12:19:33 -0400 (Thu, 30 Oct 2025) EllapsedTime: 57.3 seconds RetCode: 0 Status: OK