Package: ncdfFlow Version: 2.57.0 Command: /home/rapidbuild/bbs-3.22-bioc-rapid/R/bin/R CMD INSTALL ncdfFlow StartedAt: 2025-10-30 12:10:35 -0400 (Thu, 30 Oct 2025) EndedAt: 2025-10-30 12:10:45 -0400 (Thu, 30 Oct 2025) EllapsedTime: 10.2 seconds RetCode: 0 Status: OK