Package: ncdfFlow Version: 2.57.0 Command: /home/rapidbuild/bbs-3.22-bioc-rapid/R/bin/R CMD build --keep-empty-dirs --no-resave-data ncdfFlow StartedAt: 2025-10-30 12:52:43 -0400 (Thu, 30 Oct 2025) EndedAt: 2025-10-30 12:53:02 -0400 (Thu, 30 Oct 2025) EllapsedTime: 19.0 seconds RetCode: 0 Status: OK PackageFile: ncdfFlow_2.57.0.tar.gz PackageFileSize: 198.6 KiB