Package: mzR Version: 2.45.0 Command: /home/rapidbuild/bbs-3.22-bioc-rapid/R/bin/R CMD build --keep-empty-dirs --no-resave-data mzR StartedAt: 2025-10-30 12:52:05 -0400 (Thu, 30 Oct 2025) EndedAt: 2025-10-30 12:58:52 -0400 (Thu, 30 Oct 2025) EllapsedTime: 407.1 seconds RetCode: 0 Status: OK PackageFile: mzR_2.45.0.tar.gz PackageFileSize: 7.376 MiB