Package: mzR Version: 2.45.0 Maintainer: Steffen Neumann MaintainerEmail: sneumann at ipb-halle.de git_url: https://git.bioconductor.org/packages/mzR git_branch: devel git_last_commit: b4838166 git_last_commit_date: 2025-10-29 10:08:33 -0400 (Wed, 29 Oct 2025)