Package: interactiveDisplayBase Version: 1.49.0 Command: /home/rapidbuild/bbs-3.22-bioc-rapid/R/bin/R CMD check --install=check:interactiveDisplayBase.install-out.txt --library=/home/rapidbuild/bbs-3.22-bioc-rapid/R/site-library --timings interactiveDisplayBase_1.49.0.tar.gz StartedAt: 2025-10-30 13:43:04 -0400 (Thu, 30 Oct 2025) EndedAt: 2025-10-30 13:43:24 -0400 (Thu, 30 Oct 2025) EllapsedTime: 19.6 seconds RetCode: 0 Status: OK CheckDir: interactiveDisplayBase.Rcheck Warnings: 0