Package: interactiveDisplay Version: 1.49.0 Command: /home/rapidbuild/bbs-3.22-bioc-rapid/R/bin/R CMD INSTALL interactiveDisplay StartedAt: 2025-10-30 12:16:19 -0400 (Thu, 30 Oct 2025) EndedAt: 2025-10-30 12:16:37 -0400 (Thu, 30 Oct 2025) EllapsedTime: 17.9 seconds RetCode: 0 Status: OK