Package: gpls Version: 1.83.0 Command: /home/rapidbuild/bbs-3.22-bioc-rapid/R/bin/R CMD INSTALL gpls StartedAt: 2025-10-30 12:05:26 -0400 (Thu, 30 Oct 2025) EndedAt: 2025-10-30 12:05:28 -0400 (Thu, 30 Oct 2025) EllapsedTime: 2.0 seconds RetCode: 0 Status: OK