Package: gpls Version: 1.83.0 Command: /home/rapidbuild/bbs-3.22-bioc-rapid/R/bin/R CMD build --keep-empty-dirs --no-resave-data gpls StartedAt: 2025-10-30 12:44:09 -0400 (Thu, 30 Oct 2025) EndedAt: 2025-10-30 12:44:15 -0400 (Thu, 30 Oct 2025) EllapsedTime: 6.0 seconds RetCode: 0 Status: OK PackageFile: gpls_1.83.0.tar.gz PackageFileSize: 233.2 KiB