Package: flowWorkspace Version: 4.23.0 Command: /home/rapidbuild/bbs-3.22-bioc-rapid/R/bin/R CMD INSTALL flowWorkspace StartedAt: 2025-10-30 12:20:25 -0400 (Thu, 30 Oct 2025) EndedAt: 2025-10-30 12:22:12 -0400 (Thu, 30 Oct 2025) EllapsedTime: 107.9 seconds RetCode: 0 Status: OK