Package: flowWorkspace Version: 4.23.0 Command: /home/rapidbuild/bbs-3.22-bioc-rapid/R/bin/R CMD build --keep-empty-dirs --no-resave-data flowWorkspace StartedAt: 2025-10-30 12:39:48 -0400 (Thu, 30 Oct 2025) EndedAt: 2025-10-30 12:41:56 -0400 (Thu, 30 Oct 2025) EllapsedTime: 128.2 seconds RetCode: 0 Status: OK PackageFile: flowWorkspace_4.23.0.tar.gz PackageFileSize: 5.081 MiB