Package: flowCore Version: 2.23.0 Command: /home/rapidbuild/bbs-3.22-bioc-rapid/R/bin/R CMD INSTALL flowCore StartedAt: 2025-10-30 12:09:59 -0400 (Thu, 30 Oct 2025) EndedAt: 2025-10-30 12:10:32 -0400 (Thu, 30 Oct 2025) EllapsedTime: 33.4 seconds RetCode: 0 Status: OK