Package: flowCore Version: 2.23.0 Command: /home/rapidbuild/bbs-3.22-bioc-rapid/R/bin/R CMD build --keep-empty-dirs --no-resave-data flowCore StartedAt: 2025-10-30 12:38:19 -0400 (Thu, 30 Oct 2025) EndedAt: 2025-10-30 12:39:17 -0400 (Thu, 30 Oct 2025) EllapsedTime: 58.3 seconds RetCode: 0 Status: OK PackageFile: flowCore_2.23.0.tar.gz PackageFileSize: 7.45 MiB