Package: enrichplot Version: 1.31.0 Command: /home/rapidbuild/bbs-3.22-bioc-rapid/R/bin/R CMD INSTALL enrichplot StartedAt: 2025-10-30 12:20:34 -0400 (Thu, 30 Oct 2025) EndedAt: 2025-10-30 12:20:54 -0400 (Thu, 30 Oct 2025) EllapsedTime: 20.0 seconds RetCode: 0 Status: OK