Package: cytolib Version: 2.23.0 Command: /home/rapidbuild/bbs-3.22-bioc-rapid/R/bin/R CMD build --keep-empty-dirs --no-resave-data cytolib StartedAt: 2025-10-30 12:30:36 -0400 (Thu, 30 Oct 2025) EndedAt: 2025-10-30 12:32:39 -0400 (Thu, 30 Oct 2025) EllapsedTime: 122.5 seconds RetCode: 0 Status: OK PackageFile: cytolib_2.23.0.tar.gz PackageFileSize: 5.786 MiB