Package: csaw Version: 1.45.0 Command: /home/rapidbuild/bbs-3.22-bioc-rapid/R/bin/R CMD INSTALL csaw StartedAt: 2025-10-30 12:17:46 -0400 (Thu, 30 Oct 2025) EndedAt: 2025-10-30 12:18:44 -0400 (Thu, 30 Oct 2025) EllapsedTime: 58.3 seconds RetCode: 0 Status: OK