Package: basilisk Version: 1.23.0 Command: /home/rapidbuild/bbs-3.22-bioc-rapid/R/bin/R CMD INSTALL basilisk StartedAt: 2025-10-30 12:09:06 -0400 (Thu, 30 Oct 2025) EndedAt: 2025-10-30 12:09:09 -0400 (Thu, 30 Oct 2025) EllapsedTime: 3.0 seconds RetCode: 0 Status: OK