Package: basilisk Version: 1.23.0 Command: /home/rapidbuild/bbs-3.22-bioc-rapid/R/bin/R CMD build --keep-empty-dirs --no-resave-data basilisk StartedAt: 2025-10-30 12:26:13 -0400 (Thu, 30 Oct 2025) EndedAt: 2025-10-30 12:26:49 -0400 (Thu, 30 Oct 2025) EllapsedTime: 35.6 seconds RetCode: 0 Status: OK PackageFile: basilisk_1.23.0.tar.gz PackageFileSize: 261.1 KiB