Package: apeglm Version: 1.33.0 Command: /home/rapidbuild/bbs-3.22-bioc-rapid/R/bin/R CMD build --keep-empty-dirs --no-resave-data apeglm StartedAt: 2025-10-30 12:25:44 -0400 (Thu, 30 Oct 2025) EndedAt: 2025-10-30 12:27:03 -0400 (Thu, 30 Oct 2025) EllapsedTime: 79.1 seconds RetCode: 0 Status: OK PackageFile: apeglm_1.33.0.tar.gz PackageFileSize: 1.203 MiB