Package: annotate Version: 1.89.0 Command: /home/rapidbuild/bbs-3.22-bioc-rapid/R/bin/R CMD INSTALL annotate StartedAt: 2025-10-30 12:14:03 -0400 (Thu, 30 Oct 2025) EndedAt: 2025-10-30 12:14:14 -0400 (Thu, 30 Oct 2025) EllapsedTime: 11.7 seconds RetCode: 0 Status: OK