Package: alabaster.base Version: 1.11.0 Command: /home/rapidbuild/bbs-3.22-bioc-rapid/R/bin/R CMD INSTALL alabaster.base StartedAt: 2025-10-30 12:11:17 -0400 (Thu, 30 Oct 2025) EndedAt: 2025-10-30 12:12:20 -0400 (Thu, 30 Oct 2025) EllapsedTime: 64.0 seconds RetCode: 0 Status: OK