Package: alabaster.base Version: 1.11.0 Maintainer: Aaron Lun MaintainerEmail: infinite.monkeys.with.keyboards at gmail.com git_url: https://git.bioconductor.org/packages/alabaster.base git_branch: devel git_last_commit: f3bb4e9 git_last_commit_date: 2025-10-29 11:21:08 -0400 (Wed, 29 Oct 2025)