Package: UCSC.utils Version: 1.7.0 Command: /home/rapidbuild/bbs-3.22-bioc-rapid/R/bin/R CMD build --keep-empty-dirs --no-resave-data UCSC.utils StartedAt: 2025-10-30 13:09:23 -0400 (Thu, 30 Oct 2025) EndedAt: 2025-10-30 13:09:33 -0400 (Thu, 30 Oct 2025) EllapsedTime: 9.6 seconds RetCode: 0 Status: OK PackageFile: UCSC.utils_1.7.0.tar.gz PackageFileSize: 230.6 KiB